BEGIN:VCALENDAR
VERSION:2.0
PRODID:-//Green-tech Specifier - ECPv5.16.4//NONSGML v1.0//EN
CALSCALE:GREGORIAN
METHOD:PUBLISH
X-WR-CALNAME:Green-tech Specifier
X-ORIGINAL-URL:https://www.gtspecifier.co.uk
X-WR-CALDESC:Events for Green-tech Specifier
REFRESH-INTERVAL;VALUE=DURATION:PT1H
X-Robots-Tag:noindex
X-PUBLISHED-TTL:PT1H
BEGIN:VTIMEZONE
TZID:UTC
BEGIN:STANDARD
TZOFFSETFROM:+0000
TZOFFSETTO:+0000
TZNAME:UTC
DTSTART:20230101T000000
END:STANDARD
END:VTIMEZONE
BEGIN:VEVENT
DTSTART;TZID=UTC:20230131T160000
DTEND;TZID=UTC:20230131T210000
DTSTAMP:20260420T004201
CREATED:20230112T121514Z
LAST-MODIFIED:20230127T083716Z
UID:4071-1675180800-1675198800@www.gtspecifier.co.uk
SUMMARY:Specifi London
DESCRIPTION:Meet the Green-tech Specifier team at Specifi London. \nFind out more about our landscaping solutions for Urban Tree Planting and Greening\, Green Roof Systems\, Soils and Substrates and Wildflowers. \nEstablished in 2015 by ex. industry professionals with over 50 years collective experience between them Specifi now delivers 50+ Built Environment events across 14 major cities for Architectural\, Landscape\, Interior Design\, Mechanical Services and Electrical Services professionals\, reaching out to each key practices across each city.
URL:https://www.gtspecifier.co.uk/event/specifi-london-2/
LOCATION:London\, London\, United Kingdom
ATTACH;FMTTYPE=image/jpeg:https://www.gtspecifier.co.uk/wp-content/uploads/2022/08/Specifi2020.jpg
END:VEVENT
BEGIN:VEVENT
DTSTART;TZID=UTC:20231010T160000
DTEND;TZID=UTC:20231010T210000
DTSTAMP:20260420T004201
CREATED:20230112T122159Z
LAST-MODIFIED:20230127T083926Z
UID:4083-1696953600-1696971600@www.gtspecifier.co.uk
SUMMARY:Specifi London
DESCRIPTION:Meet the Green-tech Specifier team at Specifi London. \nFind out more about our landscaping solutions for Urban Tree Planting and Greening\, Green Roof Systems\, Soils and Substrates and Wildflowers. \nEstablished in 2015 by ex. industry professionals with over 50 years collective experience between them Specifi now delivers 50+ Built Environment events across 14 major cities for Architectural\, Landscape\, Interior Design\, Mechanical Services and Electrical Services professionals\, reaching out to each key practices across each city.
URL:https://www.gtspecifier.co.uk/event/specifi-london-3/
LOCATION:London\, London\, United Kingdom
ATTACH;FMTTYPE=image/jpeg:https://www.gtspecifier.co.uk/wp-content/uploads/2022/08/Specifi2020.jpg
END:VEVENT
END:VCALENDAR