BEGIN:VCALENDAR
VERSION:2.0
PRODID:-//Green-tech Specifier - ECPv5.16.4//NONSGML v1.0//EN
CALSCALE:GREGORIAN
METHOD:PUBLISH
X-ORIGINAL-URL:https://www.gtspecifier.co.uk
X-WR-CALDESC:Events for Green-tech Specifier
REFRESH-INTERVAL;VALUE=DURATION:PT1H
X-Robots-Tag:noindex
X-PUBLISHED-TTL:PT1H
BEGIN:VTIMEZONE
TZID:UTC
BEGIN:STANDARD
TZOFFSETFROM:+0000
TZOFFSETTO:+0000
TZNAME:UTC
DTSTART:20220101T000000
END:STANDARD
END:VTIMEZONE
BEGIN:VEVENT
DTSTART;VALUE=DATE:20221026
DTEND;VALUE=DATE:20221027
DTSTAMP:20260420T024343
CREATED:20220830T154019Z
LAST-MODIFIED:20220831T113309Z
UID:2359-1666742400-1666828799@www.gtspecifier.co.uk
SUMMARY:Irish Landscape Institute Awards
DESCRIPTION:The Green-tech Specifier Team is proud to sponsor the Irish Landscape Institute Awards and we will be in attendance on the day to enjoy with you. \nSince its founding\, the ILI has been committed to pioneering new approaches to environmental planning\, and to raising the standards of landscape design in Ireland. \nThe bi-annual ILI landscape Awards have come round again after a very turbulent and strange 2 years since the pandemic struck our island. The Awards give recognition to exemplary landscape projects by members across a range of categories. The awards ceremony will be held at the end of October 2022.
URL:https://www.gtspecifier.co.uk/event/irish-landscape-institute-awards/
ATTACH;FMTTYPE=image/jpeg:https://www.gtspecifier.co.uk/wp-content/uploads/2022/08/content_ILI-LOGO_AWARDS-2-02-2.jpg
END:VEVENT
END:VCALENDAR