BEGIN:VCALENDAR
VERSION:2.0
PRODID:-//Green-tech Specifier - ECPv5.16.4//NONSGML v1.0//EN
CALSCALE:GREGORIAN
METHOD:PUBLISH
X-ORIGINAL-URL:https://www.gtspecifier.co.uk
X-WR-CALDESC:Events for Green-tech Specifier
REFRESH-INTERVAL;VALUE=DURATION:PT1H
X-Robots-Tag:noindex
X-PUBLISHED-TTL:PT1H
BEGIN:VTIMEZONE
TZID:UTC
BEGIN:STANDARD
TZOFFSETFROM:+0000
TZOFFSETTO:+0000
TZNAME:UTC
DTSTART:20220101T000000
END:STANDARD
END:VTIMEZONE
BEGIN:VEVENT
DTSTART;TZID=UTC:20241121T160000
DTEND;TZID=UTC:20241121T210000
DTSTAMP:20260420T035215
CREATED:20240103T100150Z
LAST-MODIFIED:20240103T100203Z
UID:6062-1732204800-1732222800@www.gtspecifier.co.uk
SUMMARY:Specifi Dublin
DESCRIPTION:Meet the Green-tech Specifier team at Specifi Dublin – 21st November – Camden Court Hotel\, Camden Street\, Dublin 2\,  D02 W086 \nFind out more about our landscaping solutions for Urban Tree Planting with the Tree Parker solution\, Green Roof Systems\, Soils and Substrates and Wildflowers. \nEstablished in 2015 by ex. industry professionals with over 50 years collective experience between them Specifi now delivers 50+ Built Environment events across 14 major cities for Architectural\, Landscape\, Interior Design\, Mechanical Services and Electrical Services professionals\, reaching out to each key practices across each city.
URL:https://www.gtspecifier.co.uk/event/specifi-dublin-2/
ATTACH;FMTTYPE=image/jpeg:https://www.gtspecifier.co.uk/wp-content/uploads/2022/08/Specifi2020.jpg
END:VEVENT
BEGIN:VEVENT
DTSTART;TZID=UTC:20241119T160000
DTEND;TZID=UTC:20241119T210000
DTSTAMP:20260420T035215
CREATED:20240103T100018Z
LAST-MODIFIED:20240103T100018Z
UID:6060-1732032000-1732050000@www.gtspecifier.co.uk
SUMMARY:Specifi Belfast
DESCRIPTION:Meet the Green-tech Specifier team at Specifi Belfast – 19th November – Clayton Hotel Belfast\, 22 Ormeau Avenue\, Belfast\, BT2 8HS \nFind out more about our landscaping solutions for Urban Tree Planting with the Tree Parker solution\, Green Roof Systems\, Soils and Substrates and Wildflowers. \nEstablished in 2015 by ex. industry professionals with over 50 years collective experience between them Specifi now delivers 50+ Built Environment events across 14 major cities for Architectural\, Landscape\, Interior Design\, Mechanical Services and Electrical Services professionals\, reaching out to each key practices across each city.
URL:https://www.gtspecifier.co.uk/event/specifi-belfast-2/
ATTACH;FMTTYPE=image/jpeg:https://www.gtspecifier.co.uk/wp-content/uploads/2022/08/Specifi2020.jpg
END:VEVENT
BEGIN:VEVENT
DTSTART;TZID=UTC:20241028T160000
DTEND;TZID=UTC:20241028T210000
DTSTAMP:20260420T035215
CREATED:20240103T095853Z
LAST-MODIFIED:20240103T095853Z
UID:6058-1730131200-1730149200@www.gtspecifier.co.uk
SUMMARY:Specifi London
DESCRIPTION:Meet the Green-tech Specifier team at Specifi London – 28th October – The Crypt on the Green\, Clerkenwell Close\, Clerkenwell EC1R 0EA \nFind out more about our landscaping solutions for Urban Tree Planting with the Tree Parker solution\, Green Roof Systems\, Soils and Substrates and Wildflowers. \nEstablished in 2015 by ex. industry professionals with over 50 years collective experience between them Specifi now delivers 50+ Built Environment events across 14 major cities for Architectural\, Landscape\, Interior Design\, Mechanical Services and Electrical Services professionals\, reaching out to each key practices across each city.
URL:https://www.gtspecifier.co.uk/event/specifi-london-5/
ATTACH;FMTTYPE=image/jpeg:https://www.gtspecifier.co.uk/wp-content/uploads/2022/08/Specifi2020.jpg
END:VEVENT
BEGIN:VEVENT
DTSTART;TZID=UTC:20241001T160000
DTEND;TZID=UTC:20241001T210000
DTSTAMP:20260420T035215
CREATED:20240103T095738Z
LAST-MODIFIED:20240103T095738Z
UID:6056-1727798400-1727816400@www.gtspecifier.co.uk
SUMMARY:Specifi Birmingham
DESCRIPTION:Meet the Green-tech Specifier team at Specifi Birmingham – 1st October – Fazeley Studios\, 191 Fazeley Street\, Digbeth\, B5 5SE \nFind out more about our landscaping solutions for Urban Tree Planting with the Tree Parker solution\, Green Roof Systems\, Soils and Substrates and Wildflowers. \nEstablished in 2015 by ex. industry professionals with over 50 years collective experience between them Specifi now delivers 50+ Built Environment events across 14 major cities for Architectural\, Landscape\, Interior Design\, Mechanical Services and Electrical Services professionals\, reaching out to each key practices across each city.
URL:https://www.gtspecifier.co.uk/event/specifi-birmingham-3/
ATTACH;FMTTYPE=image/jpeg:https://www.gtspecifier.co.uk/wp-content/uploads/2022/08/Specifi2020.jpg
END:VEVENT
BEGIN:VEVENT
DTSTART;TZID=UTC:20240903T160000
DTEND;TZID=UTC:20240903T210000
DTSTAMP:20260420T035215
CREATED:20240103T095608Z
LAST-MODIFIED:20240103T095608Z
UID:6054-1725379200-1725397200@www.gtspecifier.co.uk
SUMMARY:Specifi Glasgow
DESCRIPTION:Meet the Green-tech Specifier team at Specifi Glasgow – 3rd September – Royal Concert Hall\, 2 Sauchiehall St\, Glasgow G2 3NY \nFind out more about our landscaping solutions for Urban Tree Planting with the Tree Parker solution\, Green Roof Systems\, Soils and Substrates and Wildflowers. \nEstablished in 2015 by ex. industry professionals with over 50 years collective experience between them Specifi now delivers 50+ Built Environment events across 14 major cities for Architectural\, Landscape\, Interior Design\, Mechanical Services and Electrical Services professionals\, reaching out to each key practices across each city.
URL:https://www.gtspecifier.co.uk/event/specifi-glasgow-3/
ATTACH;FMTTYPE=image/jpeg:https://www.gtspecifier.co.uk/wp-content/uploads/2022/08/Specifi2020.jpg
END:VEVENT
BEGIN:VEVENT
DTSTART;TZID=UTC:20240715T160000
DTEND;TZID=UTC:20240715T210000
DTSTAMP:20260420T035215
CREATED:20240103T095448Z
LAST-MODIFIED:20240103T095504Z
UID:6052-1721059200-1721077200@www.gtspecifier.co.uk
SUMMARY:Specifi Manchester
DESCRIPTION:Meet the Green-tech Specifier team at Specifi Manchester – 15th July – Marriott Victoria & Albert Hotel\, Water St\, Manchester M3 4JQ \nFind out more about our landscaping solutions for Urban Tree Planting with the Tree Parker solution\, Green Roof Systems\, Soils and Substrates and Wildflowers. \nEstablished in 2015 by ex. industry professionals with over 50 years collective experience between them Specifi now delivers 50+ Built Environment events across 14 major cities for Architectural\, Landscape\, Interior Design\, Mechanical Services and Electrical Services professionals\, reaching out to each key practices across each city.
URL:https://www.gtspecifier.co.uk/event/specifi-manchester-2/
ATTACH;FMTTYPE=image/jpeg:https://www.gtspecifier.co.uk/wp-content/uploads/2022/08/Specifi2020.jpg
END:VEVENT
BEGIN:VEVENT
DTSTART;TZID=UTC:20240513T160000
DTEND;TZID=UTC:20240513T210000
DTSTAMP:20260420T035215
CREATED:20240103T095347Z
LAST-MODIFIED:20240103T095358Z
UID:6050-1715616000-1715634000@www.gtspecifier.co.uk
SUMMARY:Specifi Leeds
DESCRIPTION:Meet the Green-tech Specifier team at Specifi Leeds – 13th May – Hilton Leeds City\, Neville St\, Leeds LS1 4BX \nFind out more about our landscaping solutions for Urban Tree Planting with the Tree Parker solution\, Green Roof Systems\, Soils and Substrates and Wildflowers. \nEstablished in 2015 by ex. industry professionals with over 50 years collective experience between them Specifi now delivers 50+ Built Environment events across 14 major cities for Architectural\, Landscape\, Interior Design\, Mechanical Services and Electrical Services professionals\, reaching out to each key practices across each city.
URL:https://www.gtspecifier.co.uk/event/specifi-leeds-2/
ATTACH;FMTTYPE=image/jpeg:https://www.gtspecifier.co.uk/wp-content/uploads/2022/08/Specifi2020.jpg
END:VEVENT
BEGIN:VEVENT
DTSTART;TZID=UTC:20240318T160000
DTEND;TZID=UTC:20240318T210000
DTSTAMP:20260420T035215
CREATED:20240103T095250Z
LAST-MODIFIED:20240103T095250Z
UID:6048-1710777600-1710795600@www.gtspecifier.co.uk
SUMMARY:Specifi Edinburgh
DESCRIPTION:Meet the Green-tech Specifier team at Specifi Edinburgh – 18th March – Assembly Rooms\, 54 George Street\, Edinburgh EH2 2LR \nFind out more about our landscaping solutions for Urban Tree Planting with the Tree Parker solution\, Green Roof Systems\, Soils and Substrates and Wildflowers. \nEstablished in 2015 by ex. industry professionals with over 50 years collective experience between them Specifi now delivers 50+ Built Environment events across 14 major cities for Architectural\, Landscape\, Interior Design\, Mechanical Services and Electrical Services professionals\, reaching out to each key practices across each city.
URL:https://www.gtspecifier.co.uk/event/specifi-edinburgh-2/
ATTACH;FMTTYPE=image/jpeg:https://www.gtspecifier.co.uk/wp-content/uploads/2022/08/Specifi2020.jpg
END:VEVENT
BEGIN:VEVENT
DTSTART;TZID=UTC:20240305T080000
DTEND;TZID=UTC:20240307T170000
DTSTAMP:20260420T035215
CREATED:20240103T100512Z
LAST-MODIFIED:20240103T100512Z
UID:6064-1709625600-1709830800@www.gtspecifier.co.uk
SUMMARY:Futurebuild 2024
DESCRIPTION:Join the Green-tech Specifier team on stand as we return to Futurebuild 2024. \nGreen-tech Specifier Stand Number – Stand A46 \n\n\n\n\n\nFuturebuild is about building a better future for the built environment.\nAs the industry’s premier event\, we provide the stage for inspiring ideas\, innovative solutions and knowledge sharing to drive sustainable construction and help us reach our goal of net zero. \nThe exhibition brings together the entire supply chain to showcase\, debate and understand the advancements in sustainable construction and the emerging technologies that will make net zero possible. Futurebuild is about driving positive change.
URL:https://www.gtspecifier.co.uk/event/futurebuild-2024/
ATTACH;FMTTYPE=image/jpeg:https://www.gtspecifier.co.uk/wp-content/uploads/2022/08/futurebuild-black-strap.jpg
END:VEVENT
BEGIN:VEVENT
DTSTART;TZID=UTC:20240219T160000
DTEND;TZID=UTC:20240219T210000
DTSTAMP:20260420T035215
CREATED:20240103T095128Z
LAST-MODIFIED:20240103T095128Z
UID:6046-1708358400-1708376400@www.gtspecifier.co.uk
SUMMARY:Specifi Bristol
DESCRIPTION:Meet the Green-tech Specifier team at Specifi Bristol – 19th February – The Bristol Hotel\, Prince St\, Bristol BS1 4QF \nFind out more about our landscaping solutions for Urban Tree Planting with the Tree Parker solution\, Green Roof Systems\, Soils and Substrates and Wildflowers. \nEstablished in 2015 by ex. industry professionals with over 50 years collective experience between them Specifi now delivers 50+ Built Environment events across 14 major cities for Architectural\, Landscape\, Interior Design\, Mechanical Services and Electrical Services professionals\, reaching out to each key practices across each city.
URL:https://www.gtspecifier.co.uk/event/specifi-bristol-2/
ATTACH;FMTTYPE=image/jpeg:https://www.gtspecifier.co.uk/wp-content/uploads/2022/08/Specifi2020.jpg
END:VEVENT
BEGIN:VEVENT
DTSTART;TZID=UTC:20240130T160000
DTEND;TZID=UTC:20240130T210000
DTSTAMP:20260420T035215
CREATED:20240103T095026Z
LAST-MODIFIED:20240103T095036Z
UID:6044-1706630400-1706648400@www.gtspecifier.co.uk
SUMMARY:Specifi London
DESCRIPTION:Meet the Green-tech Specifier team at Specifi London. The Crypt on the Green\, Clerkenwell Close\, Clerkenwell EC1R 0EA \nFind out more about our landscaping solutions for Urban Tree Planting with the Tree Parker solution\, Green Roof Systems\, Soils and Substrates and Wildflowers. \nEstablished in 2015 by ex. industry professionals with over 50 years collective experience between them Specifi now delivers 50+ Built Environment events across 14 major cities for Architectural\, Landscape\, Interior Design\, Mechanical Services and Electrical Services professionals\, reaching out to each key practices across each city.
URL:https://www.gtspecifier.co.uk/event/specifi-london-4/
ATTACH;FMTTYPE=image/jpeg:https://www.gtspecifier.co.uk/wp-content/uploads/2022/08/Specifi2020.jpg
END:VEVENT
BEGIN:VEVENT
DTSTART;TZID=UTC:20231130T160000
DTEND;TZID=UTC:20231130T210000
DTSTAMP:20260420T035215
CREATED:20230112T122538Z
LAST-MODIFIED:20230127T082932Z
UID:4089-1701360000-1701378000@www.gtspecifier.co.uk
SUMMARY:Specifi Dublin
DESCRIPTION:Meet the Green-tech Specifier team at Specifi Dublin. \nFind out more about our landscaping solutions for Urban Tree Planting and Greening\, Green Roof Systems\, Soils and Substrates and Wildflowers. \nEstablished in 2015 by ex. industry professionals with over 50 years collective experience between them Specifi now delivers 50+ Built Environment events across 14 major cities for Architectural\, Landscape\, Interior Design\, Mechanical Services and Electrical Services professionals\, reaching out to each key practices across each city.
URL:https://www.gtspecifier.co.uk/event/specifi-dublin/
LOCATION:Dublin\, Dublin\, Ireland
ATTACH;FMTTYPE=image/jpeg:https://www.gtspecifier.co.uk/wp-content/uploads/2022/08/Specifi2020.jpg
END:VEVENT
BEGIN:VEVENT
DTSTART;TZID=UTC:20231128T160000
DTEND;TZID=UTC:20231128T210000
DTSTAMP:20260420T035215
CREATED:20230112T122400Z
LAST-MODIFIED:20230127T083008Z
UID:4087-1701187200-1701205200@www.gtspecifier.co.uk
SUMMARY:Specifi Belfast
DESCRIPTION:Meet the Green-tech Specifier team at Specifi Belfast. \nFind out more about our landscaping solutions for Urban Tree Planting and Greening\, Green Roof Systems\, Soils and Substrates and Wildflowers. \nEstablished in 2015 by ex. industry professionals with over 50 years collective experience between them Specifi now delivers 50+ Built Environment events across 14 major cities for Architectural\, Landscape\, Interior Design\, Mechanical Services and Electrical Services professionals\, reaching out to each key practices across each city.
URL:https://www.gtspecifier.co.uk/event/specifi-belfast/
LOCATION:Belfast\, Belfast\, United Kingdom
ATTACH;FMTTYPE=image/jpeg:https://www.gtspecifier.co.uk/wp-content/uploads/2022/08/Specifi2020.jpg
END:VEVENT
BEGIN:VEVENT
DTSTART;TZID=UTC:20231107T160000
DTEND;TZID=UTC:20231107T210000
DTSTAMP:20260420T035215
CREATED:20230112T122308Z
LAST-MODIFIED:20230127T083919Z
UID:4085-1699372800-1699390800@www.gtspecifier.co.uk
SUMMARY:Specifi Birmingham
DESCRIPTION:Meet the Green-tech Specifier team at Specifi Birmingham. \nFind out more about our landscaping solutions for Urban Tree Planting and Greening\, Green Roof Systems\, Soils and Substrates and Wildflowers. \nEstablished in 2015 by ex. industry professionals with over 50 years collective experience between them Specifi now delivers 50+ Built Environment events across 14 major cities for Architectural\, Landscape\, Interior Design\, Mechanical Services and Electrical Services professionals\, reaching out to each key practices across each city.
URL:https://www.gtspecifier.co.uk/event/specifi-birmingham-2/
LOCATION:Birmingham\, Birmingham\, United Kingdom
ATTACH;FMTTYPE=image/jpeg:https://www.gtspecifier.co.uk/wp-content/uploads/2022/08/Specifi2020.jpg
END:VEVENT
BEGIN:VEVENT
DTSTART;TZID=UTC:20231010T160000
DTEND;TZID=UTC:20231010T210000
DTSTAMP:20260420T035215
CREATED:20230112T122159Z
LAST-MODIFIED:20230127T083926Z
UID:4083-1696953600-1696971600@www.gtspecifier.co.uk
SUMMARY:Specifi London
DESCRIPTION:Meet the Green-tech Specifier team at Specifi London. \nFind out more about our landscaping solutions for Urban Tree Planting and Greening\, Green Roof Systems\, Soils and Substrates and Wildflowers. \nEstablished in 2015 by ex. industry professionals with over 50 years collective experience between them Specifi now delivers 50+ Built Environment events across 14 major cities for Architectural\, Landscape\, Interior Design\, Mechanical Services and Electrical Services professionals\, reaching out to each key practices across each city.
URL:https://www.gtspecifier.co.uk/event/specifi-london-3/
LOCATION:London\, London\, United Kingdom
ATTACH;FMTTYPE=image/jpeg:https://www.gtspecifier.co.uk/wp-content/uploads/2022/08/Specifi2020.jpg
END:VEVENT
BEGIN:VEVENT
DTSTART;TZID=UTC:20230907T160000
DTEND;TZID=UTC:20230907T210000
DTSTAMP:20260420T035215
CREATED:20230112T122105Z
LAST-MODIFIED:20230127T083854Z
UID:4081-1694102400-1694120400@www.gtspecifier.co.uk
SUMMARY:Specifi Glasgow
DESCRIPTION:Meet the Green-tech Specifier team at Specifi Glasgow. \nFind out more about our landscaping solutions for Urban Tree Planting and Greening\, Green Roof Systems\, Soils and Substrates and Wildflowers. \nEstablished in 2015 by ex. industry professionals with over 50 years collective experience between them Specifi now delivers 50+ Built Environment events across 14 major cities for Architectural\, Landscape\, Interior Design\, Mechanical Services and Electrical Services professionals\, reaching out to each key practices across each city.
URL:https://www.gtspecifier.co.uk/event/specifi-glasgow-2/
LOCATION:Glasgow\, Glasgow\, United Kingdom
ATTACH;FMTTYPE=image/jpeg:https://www.gtspecifier.co.uk/wp-content/uploads/2022/08/Specifi2020.jpg
END:VEVENT
BEGIN:VEVENT
DTSTART;TZID=UTC:20230718T160000
DTEND;TZID=UTC:20230718T210000
DTSTAMP:20260420T035215
CREATED:20230112T122004Z
LAST-MODIFIED:20230127T083837Z
UID:4079-1689696000-1689714000@www.gtspecifier.co.uk
SUMMARY:Specifi Manchester
DESCRIPTION:Meet the Green-tech Specifier team at Specifi Manchester. \nFind out more about our landscaping solutions for Urban Tree Planting and Greening\, Green Roof Systems\, Soils and Substrates and Wildflowers. \nEstablished in 2015 by ex. industry professionals with over 50 years collective experience between them Specifi now delivers 50+ Built Environment events across 14 major cities for Architectural\, Landscape\, Interior Design\, Mechanical Services and Electrical Services professionals\, reaching out to each key practices across each city.
URL:https://www.gtspecifier.co.uk/event/specifi-manchester/
LOCATION:Manchester\, Manchester\, United Kingdom
ATTACH;FMTTYPE=image/jpeg:https://www.gtspecifier.co.uk/wp-content/uploads/2022/08/Specifi2020.jpg
END:VEVENT
BEGIN:VEVENT
DTSTART;TZID=UTC:20230516T160000
DTEND;TZID=UTC:20230516T210000
DTSTAMP:20260420T035215
CREATED:20230112T121904Z
LAST-MODIFIED:20230127T083823Z
UID:4077-1684252800-1684270800@www.gtspecifier.co.uk
SUMMARY:Specifi Leeds
DESCRIPTION:Meet the Green-tech Specifier team at Specifi Leeds. \nFind out more about our landscaping solutions for Urban Tree Planting and Greening\, Green Roof Systems\, Soils and Substrates and Wildflowers. \nEstablished in 2015 by ex. industry professionals with over 50 years collective experience between them Specifi now delivers 50+ Built Environment events across 14 major cities for Architectural\, Landscape\, Interior Design\, Mechanical Services and Electrical Services professionals\, reaching out to each key practices across each city.
URL:https://www.gtspecifier.co.uk/event/specifi-leeds/
LOCATION:Leeds\, Leeds\, United Kingdom
ATTACH;FMTTYPE=image/jpeg:https://www.gtspecifier.co.uk/wp-content/uploads/2022/08/Specifi2020.jpg
END:VEVENT
BEGIN:VEVENT
DTSTART;TZID=UTC:20230321T160000
DTEND;TZID=UTC:20230321T210000
DTSTAMP:20260420T035215
CREATED:20230112T121743Z
LAST-MODIFIED:20230127T083809Z
UID:4075-1679414400-1679432400@www.gtspecifier.co.uk
SUMMARY:Specifi Edinburgh
DESCRIPTION:Meet the Green-tech Specifier team at Specifi Edinburgh. \nFind out more about our landscaping solutions for Urban Tree Planting and Greening\, Green Roof Systems\, Soils and Substrates and Wildflowers. \nEstablished in 2015 by ex. industry professionals with over 50 years collective experience between them Specifi now delivers 50+ Built Environment events across 14 major cities for Architectural\, Landscape\, Interior Design\, Mechanical Services and Electrical Services professionals\, reaching out to each key practices across each city.
URL:https://www.gtspecifier.co.uk/event/specifi-edinburgh/
LOCATION:Edinburgh\, Edinburgh\, United Kingdom
ATTACH;FMTTYPE=image/jpeg:https://www.gtspecifier.co.uk/wp-content/uploads/2022/08/Specifi2020.jpg
END:VEVENT
BEGIN:VEVENT
DTSTART;VALUE=DATE:20230307
DTEND;VALUE=DATE:20230310
DTSTAMP:20260420T035215
CREATED:20220830T155208Z
LAST-MODIFIED:20230127T083752Z
UID:2370-1678147200-1678406399@www.gtspecifier.co.uk
SUMMARY:Futurebuild
DESCRIPTION:Join the Green-tech Specifier team on stand as we return to Futurebuild 2023. \nGreen-tech Specifier Stand Number – C52 \n\n\nFuturebuild is about building a better future for the built environment. \n\n\n\n\n\nAs the industry’s premier event\, we provide the stage for inspiring ideas\, innovative solutions and knowledge sharing to drive sustainable construction and help us reach our goal of net zero. \nThe exhibition brings together the entire supply chain to showcase\, debate and understand the advancements in sustainable construction and the emerging technologies that will make net zero possible. Futurebuild is about driving positive change.
URL:https://www.gtspecifier.co.uk/event/futurebuild/
LOCATION:Royal Victoria Dock\, 1 Western Gateway\, London E16 1XL\, Royal Victoria Dock\, 1 Western Gateway\, London\, E16 1XL\, United Kingdom
ATTACH;FMTTYPE=image/jpeg:https://www.gtspecifier.co.uk/wp-content/uploads/2022/08/futurebuild-black-strap.jpg
END:VEVENT
BEGIN:VEVENT
DTSTART;TZID=UTC:20230221T160000
DTEND;TZID=UTC:20230221T210000
DTSTAMP:20260420T035215
CREATED:20230112T121643Z
LAST-MODIFIED:20230127T083732Z
UID:4073-1676995200-1677013200@www.gtspecifier.co.uk
SUMMARY:Specifi Bristol
DESCRIPTION:Meet the Green-tech Specifier team at Specifi Bristol. \nFind out more about our landscaping solutions for Urban Tree Planting and Greening\, Green Roof Systems\, Soils and Substrates and Wildflowers. \nEstablished in 2015 by ex. industry professionals with over 50 years collective experience between them Specifi now delivers 50+ Built Environment events across 14 major cities for Architectural\, Landscape\, Interior Design\, Mechanical Services and Electrical Services professionals\, reaching out to each key practices across each city.
URL:https://www.gtspecifier.co.uk/event/specifi-bristol/
LOCATION:Bristol\, Bristol\, United Kingdom
ATTACH;FMTTYPE=image/jpeg:https://www.gtspecifier.co.uk/wp-content/uploads/2022/08/Specifi2020.jpg
END:VEVENT
BEGIN:VEVENT
DTSTART;TZID=UTC:20230131T160000
DTEND;TZID=UTC:20230131T210000
DTSTAMP:20260420T035215
CREATED:20230112T121514Z
LAST-MODIFIED:20230127T083716Z
UID:4071-1675180800-1675198800@www.gtspecifier.co.uk
SUMMARY:Specifi London
DESCRIPTION:Meet the Green-tech Specifier team at Specifi London. \nFind out more about our landscaping solutions for Urban Tree Planting and Greening\, Green Roof Systems\, Soils and Substrates and Wildflowers. \nEstablished in 2015 by ex. industry professionals with over 50 years collective experience between them Specifi now delivers 50+ Built Environment events across 14 major cities for Architectural\, Landscape\, Interior Design\, Mechanical Services and Electrical Services professionals\, reaching out to each key practices across each city.
URL:https://www.gtspecifier.co.uk/event/specifi-london-2/
LOCATION:London\, London\, United Kingdom
ATTACH;FMTTYPE=image/jpeg:https://www.gtspecifier.co.uk/wp-content/uploads/2022/08/Specifi2020.jpg
END:VEVENT
BEGIN:VEVENT
DTSTART;VALUE=DATE:20221124
DTEND;VALUE=DATE:20221125
DTSTAMP:20260420T035215
CREATED:20220830T154745Z
LAST-MODIFIED:20220831T112953Z
UID:2366-1669248000-1669334399@www.gtspecifier.co.uk
SUMMARY:Landscape Institute Awards
DESCRIPTION:The Green-tech Specifier team is proud to be a category sponsor at the 2022 Landscape Institute Awards and we will be in attendance to enjoy the day with you. \nThe LI Awards 2022 celebrate the exceptional contribution of landscape designers\, managers\, planners\, researchers\, local authorities\, and more across the world in levelling up and creating a better place to live. \n\n15 redesigned Professional category awards\, covering all aspects of practice\n 5 Open category awards\, for landscape professionals anywhere to enter\n Building with Nature Award\nEarly bird fees available\, with an additional £30 off for for sole traders\, those that work in public sector or 3rd sector (such as voluntary groups\, charities\, NGOs).
URL:https://www.gtspecifier.co.uk/event/landscape-institute-awards/
ATTACH;FMTTYPE=image/jpeg:https://www.gtspecifier.co.uk/wp-content/uploads/2022/08/LI-Awards-2022-logo-3-1.jpg
END:VEVENT
BEGIN:VEVENT
DTSTART;TZID=UTC:20221109T170000
DTEND;TZID=UTC:20221109T210000
DTSTAMP:20260420T035215
CREATED:20220830T154331Z
LAST-MODIFIED:20230127T083647Z
UID:2364-1668013200-1668027600@www.gtspecifier.co.uk
SUMMARY:Specifi Birmingham
DESCRIPTION:Meet the Green-tech Specifier team at Specifi Birmingham. \nFind out more about our landscaping solutions for Urban Tree Planting and Greening\, Green Roof Systems\, Soils and Substrates and Wildflowers. \nEstablished in 2015 by ex. industry professionals with over 50 years collective experience between them Specifi now delivers 50+ Built Environment events across 14 major cities for Architectural\, Landscape\, Interior Design\, Mechanical Services and Electrical Services professionals\, reaching out to each key practices across each city. \n 
URL:https://www.gtspecifier.co.uk/event/specifi-birmingham/
LOCATION:Birmingham\, Birmingham\, United Kingdom
ATTACH;FMTTYPE=image/jpeg:https://www.gtspecifier.co.uk/wp-content/uploads/2022/08/Specifi2020.jpg
END:VEVENT
BEGIN:VEVENT
DTSTART;VALUE=DATE:20221026
DTEND;VALUE=DATE:20221027
DTSTAMP:20260420T035215
CREATED:20220830T154019Z
LAST-MODIFIED:20220831T113309Z
UID:2359-1666742400-1666828799@www.gtspecifier.co.uk
SUMMARY:Irish Landscape Institute Awards
DESCRIPTION:The Green-tech Specifier Team is proud to sponsor the Irish Landscape Institute Awards and we will be in attendance on the day to enjoy with you. \nSince its founding\, the ILI has been committed to pioneering new approaches to environmental planning\, and to raising the standards of landscape design in Ireland. \nThe bi-annual ILI landscape Awards have come round again after a very turbulent and strange 2 years since the pandemic struck our island. The Awards give recognition to exemplary landscape projects by members across a range of categories. The awards ceremony will be held at the end of October 2022.
URL:https://www.gtspecifier.co.uk/event/irish-landscape-institute-awards/
ATTACH;FMTTYPE=image/jpeg:https://www.gtspecifier.co.uk/wp-content/uploads/2022/08/content_ILI-LOGO_AWARDS-2-02-2.jpg
END:VEVENT
BEGIN:VEVENT
DTSTART;TZID=UTC:20221012T170000
DTEND;TZID=UTC:20221012T210000
DTSTAMP:20260420T035215
CREATED:20220830T153538Z
LAST-MODIFIED:20221007T102616Z
UID:2356-1665594000-1665608400@www.gtspecifier.co.uk
SUMMARY:Specifi London
DESCRIPTION:Meet the Green-tech Specifier team at Specifi London. \nFind out more about our landscaping solutions for Urban Tree Planting and Greening\, Green Roof Systems\, Soils and Substrates and Wildflowers. \nEstablished in 2015 by ex. industry professionals with over 50 years collective experience between them Specifi now delivers 50+ Built Environment events across 14 major cities for Architectural\, Landscape\, Interior Design\, Mechanical Services and Electrical Services professionals\, reaching out to each key practices across each city. \n 
URL:https://www.gtspecifier.co.uk/event/specifi-london/
ATTACH;FMTTYPE=image/jpeg:https://www.gtspecifier.co.uk/wp-content/uploads/2022/08/Specifi2020.jpg
END:VEVENT
BEGIN:VEVENT
DTSTART;TZID=UTC:20220906T170000
DTEND;TZID=UTC:20220906T210000
DTSTAMP:20260420T035215
CREATED:20220830T153041Z
LAST-MODIFIED:20220902T101651Z
UID:2352-1662483600-1662498000@www.gtspecifier.co.uk
SUMMARY:Specifi Glasgow
DESCRIPTION:Meet the Green-tech Specifier team at Specifi Glasgow \nFind out more about our landscaping solutions for Urban Tree Planting and Greening\, Green Roof Systems\, Soils and Substrates and Wildflowers. \nEstablished in 2015 by ex. industry professionals with over 50 years collective experience between them Specifi now delivers 50+ Built Environment events across 14 major cities for Architectural\, Landscape\, Interior Design\, Mechanical Services and Electrical Services professionals\, reaching out to each key practices across each city.
URL:https://www.gtspecifier.co.uk/event/specifi-glasgow/
ATTACH;FMTTYPE=image/jpeg:https://www.gtspecifier.co.uk/wp-content/uploads/2022/08/Specifi2020.jpg
END:VEVENT
END:VCALENDAR