BEGIN:VCALENDAR
VERSION:2.0
PRODID:-//Green-tech Specifier - ECPv5.16.4//NONSGML v1.0//EN
CALSCALE:GREGORIAN
METHOD:PUBLISH
X-ORIGINAL-URL:https://www.gtspecifier.co.uk
X-WR-CALDESC:Events for Green-tech Specifier
REFRESH-INTERVAL;VALUE=DURATION:PT1H
X-Robots-Tag:noindex
X-PUBLISHED-TTL:PT1H
BEGIN:VTIMEZONE
TZID:UTC
BEGIN:STANDARD
TZOFFSETFROM:+0000
TZOFFSETTO:+0000
TZNAME:UTC
DTSTART:20230101T000000
END:STANDARD
END:VTIMEZONE
BEGIN:VEVENT
DTSTART;VALUE=DATE:20230307
DTEND;VALUE=DATE:20230310
DTSTAMP:20260424T101002
CREATED:20220830T155208Z
LAST-MODIFIED:20230127T083752Z
UID:2370-1678147200-1678406399@www.gtspecifier.co.uk
SUMMARY:Futurebuild
DESCRIPTION:Join the Green-tech Specifier team on stand as we return to Futurebuild 2023. \nGreen-tech Specifier Stand Number – C52 \n\n\nFuturebuild is about building a better future for the built environment. \n\n\n\n\n\nAs the industry’s premier event\, we provide the stage for inspiring ideas\, innovative solutions and knowledge sharing to drive sustainable construction and help us reach our goal of net zero. \nThe exhibition brings together the entire supply chain to showcase\, debate and understand the advancements in sustainable construction and the emerging technologies that will make net zero possible. Futurebuild is about driving positive change.
URL:https://www.gtspecifier.co.uk/event/futurebuild/
LOCATION:Royal Victoria Dock\, 1 Western Gateway\, London E16 1XL\, Royal Victoria Dock\, 1 Western Gateway\, London\, E16 1XL\, United Kingdom
ATTACH;FMTTYPE=image/jpeg:https://www.gtspecifier.co.uk/wp-content/uploads/2022/08/futurebuild-black-strap.jpg
END:VEVENT
BEGIN:VEVENT
DTSTART;TZID=UTC:20230321T160000
DTEND;TZID=UTC:20230321T210000
DTSTAMP:20260424T101002
CREATED:20230112T121743Z
LAST-MODIFIED:20230127T083809Z
UID:4075-1679414400-1679432400@www.gtspecifier.co.uk
SUMMARY:Specifi Edinburgh
DESCRIPTION:Meet the Green-tech Specifier team at Specifi Edinburgh. \nFind out more about our landscaping solutions for Urban Tree Planting and Greening\, Green Roof Systems\, Soils and Substrates and Wildflowers. \nEstablished in 2015 by ex. industry professionals with over 50 years collective experience between them Specifi now delivers 50+ Built Environment events across 14 major cities for Architectural\, Landscape\, Interior Design\, Mechanical Services and Electrical Services professionals\, reaching out to each key practices across each city.
URL:https://www.gtspecifier.co.uk/event/specifi-edinburgh/
LOCATION:Edinburgh\, Edinburgh\, United Kingdom
ATTACH;FMTTYPE=image/jpeg:https://www.gtspecifier.co.uk/wp-content/uploads/2022/08/Specifi2020.jpg
END:VEVENT
END:VCALENDAR