BEGIN:VCALENDAR
VERSION:2.0
PRODID:-//Green-tech Specifier - ECPv5.16.4//NONSGML v1.0//EN
CALSCALE:GREGORIAN
METHOD:PUBLISH
X-ORIGINAL-URL:https://www.gtspecifier.co.uk
X-WR-CALDESC:Events for Green-tech Specifier
REFRESH-INTERVAL;VALUE=DURATION:PT1H
X-Robots-Tag:noindex
X-PUBLISHED-TTL:PT1H
BEGIN:VTIMEZONE
TZID:UTC
BEGIN:STANDARD
TZOFFSETFROM:+0000
TZOFFSETTO:+0000
TZNAME:UTC
DTSTART:20220101T000000
END:STANDARD
END:VTIMEZONE
BEGIN:VEVENT
DTSTART;TZID=UTC:20221109T170000
DTEND;TZID=UTC:20221109T210000
DTSTAMP:20260424T165624
CREATED:20220830T154331Z
LAST-MODIFIED:20230127T083647Z
UID:2364-1668013200-1668027600@www.gtspecifier.co.uk
SUMMARY:Specifi Birmingham
DESCRIPTION:Meet the Green-tech Specifier team at Specifi Birmingham. \nFind out more about our landscaping solutions for Urban Tree Planting and Greening\, Green Roof Systems\, Soils and Substrates and Wildflowers. \nEstablished in 2015 by ex. industry professionals with over 50 years collective experience between them Specifi now delivers 50+ Built Environment events across 14 major cities for Architectural\, Landscape\, Interior Design\, Mechanical Services and Electrical Services professionals\, reaching out to each key practices across each city. \n 
URL:https://www.gtspecifier.co.uk/event/specifi-birmingham/
LOCATION:Birmingham\, Birmingham\, United Kingdom
ATTACH;FMTTYPE=image/jpeg:https://www.gtspecifier.co.uk/wp-content/uploads/2022/08/Specifi2020.jpg
END:VEVENT
BEGIN:VEVENT
DTSTART;VALUE=DATE:20221124
DTEND;VALUE=DATE:20221125
DTSTAMP:20260424T165624
CREATED:20220830T154745Z
LAST-MODIFIED:20220831T112953Z
UID:2366-1669248000-1669334399@www.gtspecifier.co.uk
SUMMARY:Landscape Institute Awards
DESCRIPTION:The Green-tech Specifier team is proud to be a category sponsor at the 2022 Landscape Institute Awards and we will be in attendance to enjoy the day with you. \nThe LI Awards 2022 celebrate the exceptional contribution of landscape designers\, managers\, planners\, researchers\, local authorities\, and more across the world in levelling up and creating a better place to live. \n\n15 redesigned Professional category awards\, covering all aspects of practice\n 5 Open category awards\, for landscape professionals anywhere to enter\n Building with Nature Award\nEarly bird fees available\, with an additional £30 off for for sole traders\, those that work in public sector or 3rd sector (such as voluntary groups\, charities\, NGOs).
URL:https://www.gtspecifier.co.uk/event/landscape-institute-awards/
ATTACH;FMTTYPE=image/jpeg:https://www.gtspecifier.co.uk/wp-content/uploads/2022/08/LI-Awards-2022-logo-3-1.jpg
END:VEVENT
END:VCALENDAR